BEGIN:VCALENDAR
VERSION:2.0
PRODID:-//Potomac Playmakers - ECPv6.15.17//NONSGML v1.0//EN
CALSCALE:GREGORIAN
METHOD:PUBLISH
X-WR-CALNAME:Potomac Playmakers
X-ORIGINAL-URL:https://www.potomacplaymakers.org
X-WR-CALDESC:Events for Potomac Playmakers
REFRESH-INTERVAL;VALUE=DURATION:PT1H
X-Robots-Tag:noindex
X-PUBLISHED-TTL:PT1H
BEGIN:VTIMEZONE
TZID:America/New_York
BEGIN:DAYLIGHT
TZOFFSETFROM:-0500
TZOFFSETTO:-0400
TZNAME:EDT
DTSTART:20250309T070000
END:DAYLIGHT
BEGIN:STANDARD
TZOFFSETFROM:-0400
TZOFFSETTO:-0500
TZNAME:EST
DTSTART:20251102T060000
END:STANDARD
BEGIN:DAYLIGHT
TZOFFSETFROM:-0500
TZOFFSETTO:-0400
TZNAME:EDT
DTSTART:20260308T070000
END:DAYLIGHT
BEGIN:STANDARD
TZOFFSETFROM:-0400
TZOFFSETTO:-0500
TZNAME:EST
DTSTART:20261101T060000
END:STANDARD
BEGIN:DAYLIGHT
TZOFFSETFROM:-0500
TZOFFSETTO:-0400
TZNAME:EDT
DTSTART:20270314T070000
END:DAYLIGHT
BEGIN:STANDARD
TZOFFSETFROM:-0400
TZOFFSETTO:-0500
TZNAME:EST
DTSTART:20271107T060000
END:STANDARD
END:VTIMEZONE
BEGIN:VEVENT
DTSTART;TZID=America/New_York:20260117T150000
DTEND;TZID=America/New_York:20260117T170000
DTSTAMP:20260423T173350
CREATED:20250530T154648Z
LAST-MODIFIED:20250530T154648Z
UID:2486-1768662000-1768669200@www.potomacplaymakers.org
SUMMARY:The Taming of the Shrew
DESCRIPTION:William Shakespeare’s comedic play that explores themes of courtship\, gender roles\, and societal expectations. It follows the courtship of Katherina\, a strong-willed woman\, and Petruchio\, who attempts to “tame” her through various methods. Tickets $20/$15 (65+) \n \n\nGet Tickets
URL:https://www.potomacplaymakers.org/event/the-taming-of-the-shrew/
LOCATION:Potomac Playmakers Performing Arts Center\, 17303 W Washington St.\, Hagerstown\, Maryland\, 21740
CATEGORIES:Productions
ATTACH;FMTTYPE=image/jpeg:https://www.potomacplaymakers.org/wp-content/uploads/2025/05/PPTamingoftheShrewLogo.jpg
END:VEVENT
BEGIN:VEVENT
DTSTART;TZID=America/New_York:20260117T200000
DTEND;TZID=America/New_York:20260117T220000
DTSTAMP:20260423T173350
CREATED:20250530T154956Z
LAST-MODIFIED:20250530T154956Z
UID:2491-1768680000-1768687200@www.potomacplaymakers.org
SUMMARY:The Taming of the Shrew
DESCRIPTION:William Shakespeare’s comedic play that explores themes of courtship\, gender roles\, and societal expectations. It follows the courtship of Katherina\, a strong-willed woman\, and Petruchio\, who attempts to “tame” her through various methods. Tickets $20/$15 (65+) \n \n\nGet Tickets
URL:https://www.potomacplaymakers.org/event/the-taming-of-the-shrew-2/
LOCATION:Potomac Playmakers Performing Arts Center\, 17303 W Washington St.\, Hagerstown\, Maryland\, 21740
CATEGORIES:Productions
ATTACH;FMTTYPE=image/jpeg:https://www.potomacplaymakers.org/wp-content/uploads/2025/05/PPTamingoftheShrewLogo.jpg
END:VEVENT
END:VCALENDAR