BEGIN:VCALENDAR
VERSION:2.0
PRODID:-//Potomac Playmakers - ECPv6.15.17//NONSGML v1.0//EN
CALSCALE:GREGORIAN
METHOD:PUBLISH
X-WR-CALNAME:Potomac Playmakers
X-ORIGINAL-URL:https://www.potomacplaymakers.org
X-WR-CALDESC:Events for Potomac Playmakers
REFRESH-INTERVAL;VALUE=DURATION:PT1H
X-Robots-Tag:noindex
X-PUBLISHED-TTL:PT1H
BEGIN:VTIMEZONE
TZID:America/New_York
BEGIN:DAYLIGHT
TZOFFSETFROM:-0500
TZOFFSETTO:-0400
TZNAME:EDT
DTSTART:20240310T070000
END:DAYLIGHT
BEGIN:STANDARD
TZOFFSETFROM:-0400
TZOFFSETTO:-0500
TZNAME:EST
DTSTART:20241103T060000
END:STANDARD
BEGIN:DAYLIGHT
TZOFFSETFROM:-0500
TZOFFSETTO:-0400
TZNAME:EDT
DTSTART:20250309T070000
END:DAYLIGHT
BEGIN:STANDARD
TZOFFSETFROM:-0400
TZOFFSETTO:-0500
TZNAME:EST
DTSTART:20251102T060000
END:STANDARD
BEGIN:DAYLIGHT
TZOFFSETFROM:-0500
TZOFFSETTO:-0400
TZNAME:EDT
DTSTART:20260308T070000
END:DAYLIGHT
BEGIN:STANDARD
TZOFFSETFROM:-0400
TZOFFSETTO:-0500
TZNAME:EST
DTSTART:20261101T060000
END:STANDARD
END:VTIMEZONE
BEGIN:VEVENT
DTSTART;TZID=America/New_York:20250606T200000
DTEND;TZID=America/New_York:20250606T220000
DTSTAMP:20260421T125243
CREATED:20240708T194351Z
LAST-MODIFIED:20240708T194351Z
UID:2274-1749240000-1749247200@www.potomacplaymakers.org
SUMMARY:Honky Tonk Hissy Fit
DESCRIPTION:Honky Tonk Hissy Fit \nBy Jones Hope Wooten \nJune 6-8 & 13-15\, 2025 \nWith permission from Dramatists Play Service \n In this rollicking\, hilarious comedy\, the Doublewide\, Texas\, gang is back and life in their tiny town has gotten crazier than ever!  \n\nGet Tickets
URL:https://www.potomacplaymakers.org/event/honky-tonk-hissy-fit/
LOCATION:Potomac Playmakers Performing Arts Center\, 17303 W Washington St.\, Hagerstown\, Maryland\, 21740
CATEGORIES:Productions
ATTACH;FMTTYPE=image/jpeg:https://www.potomacplaymakers.org/wp-content/uploads/2024/07/PPHonkyTonkHissyFitLogo1.jpg
END:VEVENT
END:VCALENDAR