BEGIN:VCALENDAR
VERSION:2.0
PRODID:-//Potomac Playmakers - ECPv6.15.17//NONSGML v1.0//EN
CALSCALE:GREGORIAN
METHOD:PUBLISH
X-WR-CALNAME:Potomac Playmakers
X-ORIGINAL-URL:https://www.potomacplaymakers.org
X-WR-CALDESC:Events for Potomac Playmakers
REFRESH-INTERVAL;VALUE=DURATION:PT1H
X-Robots-Tag:noindex
X-PUBLISHED-TTL:PT1H
BEGIN:VTIMEZONE
TZID:America/New_York
BEGIN:DAYLIGHT
TZOFFSETFROM:-0500
TZOFFSETTO:-0400
TZNAME:EDT
DTSTART:20240310T070000
END:DAYLIGHT
BEGIN:STANDARD
TZOFFSETFROM:-0400
TZOFFSETTO:-0500
TZNAME:EST
DTSTART:20241103T060000
END:STANDARD
BEGIN:DAYLIGHT
TZOFFSETFROM:-0500
TZOFFSETTO:-0400
TZNAME:EDT
DTSTART:20250309T070000
END:DAYLIGHT
BEGIN:STANDARD
TZOFFSETFROM:-0400
TZOFFSETTO:-0500
TZNAME:EST
DTSTART:20251102T060000
END:STANDARD
BEGIN:DAYLIGHT
TZOFFSETFROM:-0500
TZOFFSETTO:-0400
TZNAME:EDT
DTSTART:20260308T070000
END:DAYLIGHT
BEGIN:STANDARD
TZOFFSETFROM:-0400
TZOFFSETTO:-0500
TZNAME:EST
DTSTART:20261101T060000
END:STANDARD
END:VTIMEZONE
BEGIN:VEVENT
DTSTART;TZID=America/New_York:20250905T200000
DTEND;TZID=America/New_York:20250905T220000
DTSTAMP:20260421T141509
CREATED:20250530T150255Z
LAST-MODIFIED:20250530T150255Z
UID:2449-1757102400-1757109600@www.potomacplaymakers.org
SUMMARY:Second Samuel
DESCRIPTION:Set in a small Georgia town post WWII\, the town is faced with the revelation that one of their favorite residents has died and apparently is NOT the female as was presented. The town does not want to bury this person in the town cemetery because of their difference. The story is told from the voices of a man of color\, and his mentee B-Flat\, a young man with autism. B-Flat asks the townspeople where they will bury him when he dies. Will he face the same heartless scrutiny as the deceased lady when his time comes?  \n \n\nGet Tickets
URL:https://www.potomacplaymakers.org/event/second-samuel/
LOCATION:Potomac Playmakers Performing Arts Center\, 17303 W Washington St.\, Hagerstown\, Maryland\, 21740
CATEGORIES:Productions
ATTACH;FMTTYPE=image/jpeg:https://www.potomacplaymakers.org/wp-content/uploads/2025/05/638839013524488879PPSecondSamuelLogo.jpg
END:VEVENT
BEGIN:VEVENT
DTSTART;TZID=America/New_York:20250906T150000
DTEND;TZID=America/New_York:20250906T170000
DTSTAMP:20260421T141510
CREATED:20250530T151121Z
LAST-MODIFIED:20250530T153053Z
UID:2452-1757170800-1757178000@www.potomacplaymakers.org
SUMMARY:Second Samuel
DESCRIPTION:Set in a small Georgia town post WWII\, the town is faced with the revelation that one of their favorite residents has died and apparently is NOT the female as was presented. The town does not want to bury this person in the town cemetery because of their difference. The story is told from the voices of a man of color\, and his mentee B-Flat\, a young man with autism. B-Flat asks the townspeople where they will bury him when he dies. Will he face the same heartless scrutiny as the deceased lady when his time comes?  \n \n\nGet Tickets
URL:https://www.potomacplaymakers.org/event/second-samuel-2/
LOCATION:Potomac Playmakers Performing Arts Center\, 17303 W Washington St.\, Hagerstown\, Maryland\, 21740
CATEGORIES:Productions
END:VEVENT
BEGIN:VEVENT
DTSTART;TZID=America/New_York:20250907T150000
DTEND;TZID=America/New_York:20250907T170000
DTSTAMP:20260421T141510
CREATED:20250530T151247Z
LAST-MODIFIED:20250530T153046Z
UID:2454-1757257200-1757264400@www.potomacplaymakers.org
SUMMARY:Second Samuel
DESCRIPTION:Set in a small Georgia town post WWII\, the town is faced with the revelation that one of their favorite residents has died and apparently is NOT the female as was presented. The town does not want to bury this person in the town cemetery because of their difference. The story is told from the voices of a man of color\, and his mentee B-Flat\, a young man with autism. B-Flat asks the townspeople where they will bury him when he dies. Will he face the same heartless scrutiny as the deceased lady when his time comes?  \n \n\nGet Tickets
URL:https://www.potomacplaymakers.org/event/second-samuel-3/
LOCATION:Potomac Playmakers Performing Arts Center\, 17303 W Washington St.\, Hagerstown\, Maryland\, 21740
CATEGORIES:Productions
ATTACH;FMTTYPE=image/jpeg:https://www.potomacplaymakers.org/wp-content/uploads/2025/05/638839013524488879PPSecondSamuelLogo.jpg
END:VEVENT
BEGIN:VEVENT
DTSTART;TZID=America/New_York:20250912T080000
DTEND;TZID=America/New_York:20250912T220000
DTSTAMP:20260421T141510
CREATED:20250530T151422Z
LAST-MODIFIED:20250530T153029Z
UID:2456-1757664000-1757714400@www.potomacplaymakers.org
SUMMARY:Second Samuel
DESCRIPTION:Set in a small Georgia town post WWII\, the town is faced with the revelation that one of their favorite residents has died and apparently is NOT the female as was presented. The town does not want to bury this person in the town cemetery because of their difference. The story is told from the voices of a man of color\, and his mentee B-Flat\, a young man with autism. B-Flat asks the townspeople where they will bury him when he dies. Will he face the same heartless scrutiny as the deceased lady when his time comes?  \n \n\nGet Tickets
URL:https://www.potomacplaymakers.org/event/second-samuel-4/
LOCATION:Potomac Playmakers Performing Arts Center\, 17303 W Washington St.\, Hagerstown\, Maryland\, 21740
CATEGORIES:Productions
ATTACH;FMTTYPE=image/jpeg:https://www.potomacplaymakers.org/wp-content/uploads/2025/05/638839013524488879PPSecondSamuelLogo.jpg
END:VEVENT
BEGIN:VEVENT
DTSTART;TZID=America/New_York:20250913T150000
DTEND;TZID=America/New_York:20250913T170000
DTSTAMP:20260421T141510
CREATED:20250530T151705Z
LAST-MODIFIED:20250530T153019Z
UID:2458-1757775600-1757782800@www.potomacplaymakers.org
SUMMARY:Second Samuel
DESCRIPTION:Set in a small Georgia town post WWII\, the town is faced with the revelation that one of their favorite residents has died and apparently is NOT the female as was presented. The town does not want to bury this person in the town cemetery because of their difference. The story is told from the voices of a man of color\, and his mentee B-Flat\, a young man with autism. B-Flat asks the townspeople where they will bury him when he dies. Will he face the same heartless scrutiny as the deceased lady when his time comes?  \n \n\nGet Tickets
URL:https://www.potomacplaymakers.org/event/second-samuel-5/
LOCATION:Potomac Playmakers Performing Arts Center\, 17303 W Washington St.\, Hagerstown\, Maryland\, 21740
CATEGORIES:Productions
ATTACH;FMTTYPE=image/jpeg:https://www.potomacplaymakers.org/wp-content/uploads/2025/05/638839013524488879PPSecondSamuelLogo.jpg
END:VEVENT
BEGIN:VEVENT
DTSTART;TZID=America/New_York:20250914T150000
DTEND;TZID=America/New_York:20250914T170000
DTSTAMP:20260421T141510
CREATED:20250530T151801Z
LAST-MODIFIED:20250530T152957Z
UID:2460-1757862000-1757869200@www.potomacplaymakers.org
SUMMARY:Second Samuel
DESCRIPTION:Set in a small Georgia town post WWII\, the town is faced with the revelation that one of their favorite residents has died and apparently is NOT the female as was presented. The town does not want to bury this person in the town cemetery because of their difference. The story is told from the voices of a man of color\, and his mentee B-Flat\, a young man with autism. B-Flat asks the townspeople where they will bury him when he dies. Will he face the same heartless scrutiny as the deceased lady when his time comes?  \n \n\nGet Tickets
URL:https://www.potomacplaymakers.org/event/second-samuel-6/
LOCATION:Potomac Playmakers Performing Arts Center\, 17303 W Washington St.\, Hagerstown\, Maryland\, 21740
CATEGORIES:Productions
END:VEVENT
END:VCALENDAR