BEGIN:VCALENDAR
VERSION:2.0
PRODID:-//Potomac Playmakers - ECPv6.15.17//NONSGML v1.0//EN
CALSCALE:GREGORIAN
METHOD:PUBLISH
X-ORIGINAL-URL:https://www.potomacplaymakers.org
X-WR-CALDESC:Events for Potomac Playmakers
REFRESH-INTERVAL;VALUE=DURATION:PT1H
X-Robots-Tag:noindex
X-PUBLISHED-TTL:PT1H
BEGIN:VTIMEZONE
TZID:America/New_York
BEGIN:DAYLIGHT
TZOFFSETFROM:-0500
TZOFFSETTO:-0400
TZNAME:EDT
DTSTART:20210314T070000
END:DAYLIGHT
BEGIN:STANDARD
TZOFFSETFROM:-0400
TZOFFSETTO:-0500
TZNAME:EST
DTSTART:20211107T060000
END:STANDARD
BEGIN:DAYLIGHT
TZOFFSETFROM:-0500
TZOFFSETTO:-0400
TZNAME:EDT
DTSTART:20220313T070000
END:DAYLIGHT
BEGIN:STANDARD
TZOFFSETFROM:-0400
TZOFFSETTO:-0500
TZNAME:EST
DTSTART:20221106T060000
END:STANDARD
BEGIN:DAYLIGHT
TZOFFSETFROM:-0500
TZOFFSETTO:-0400
TZNAME:EDT
DTSTART:20230312T070000
END:DAYLIGHT
BEGIN:STANDARD
TZOFFSETFROM:-0400
TZOFFSETTO:-0500
TZNAME:EST
DTSTART:20231105T060000
END:STANDARD
END:VTIMEZONE
BEGIN:VEVENT
DTSTART;TZID=America/New_York:20220416T120000
DTEND;TZID=America/New_York:20220416T120000
DTSTAMP:20260420T131901
CREATED:20220404T183138Z
LAST-MODIFIED:20220404T185233Z
UID:836-1650110400-1650110400@www.potomacplaymakers.org
SUMMARY:Easter Egg Hunt and Photos with the Easter Bunny
DESCRIPTION:Description\n                        A special guest is on their way to The Potomac Playmakers Performing Arts Center...The Easter Bunny!He will be hiding eggs for a big egg hunt all around our property on April 16th. Grab your baskets and come out from 12-2 to collect candy filled eggs. *The Egg Hunt is for children 12 and under accompanied by an adult*Pictures with the Easter Bunny are available for a small donation. At the event we will also be selling concessions and beautiful Easter Flowers.This event is free to the community\, but space for the egg hunt is limited so please visit our website at www.potomacplaymakers.org to register!*Rain date will be April 24th from 12-2*\n                    Get Tickets
URL:https://www.potomacplaymakers.org/event/easteregghuntandphotoswiththeeasterbunny-0/
LOCATION:Maryland
CATEGORIES:Productions
ATTACH;FMTTYPE=image/jpeg:https://www.potomacplaymakers.org/wp-content/uploads/2022/03/easter-bunny-eggs-green-grass-86392828.jpg
END:VEVENT
END:VCALENDAR