BEGIN:VCALENDAR
VERSION:2.0
PRODID:-//Potomac Playmakers - ECPv6.15.17//NONSGML v1.0//EN
CALSCALE:GREGORIAN
METHOD:PUBLISH
X-ORIGINAL-URL:https://www.potomacplaymakers.org
X-WR-CALDESC:Events for Potomac Playmakers
REFRESH-INTERVAL;VALUE=DURATION:PT1H
X-Robots-Tag:noindex
X-PUBLISHED-TTL:PT1H
BEGIN:VTIMEZONE
TZID:America/New_York
BEGIN:DAYLIGHT
TZOFFSETFROM:-0500
TZOFFSETTO:-0400
TZNAME:EDT
DTSTART:20210314T070000
END:DAYLIGHT
BEGIN:STANDARD
TZOFFSETFROM:-0400
TZOFFSETTO:-0500
TZNAME:EST
DTSTART:20211107T060000
END:STANDARD
BEGIN:DAYLIGHT
TZOFFSETFROM:-0500
TZOFFSETTO:-0400
TZNAME:EDT
DTSTART:20220313T070000
END:DAYLIGHT
BEGIN:STANDARD
TZOFFSETFROM:-0400
TZOFFSETTO:-0500
TZNAME:EST
DTSTART:20221106T060000
END:STANDARD
BEGIN:DAYLIGHT
TZOFFSETFROM:-0500
TZOFFSETTO:-0400
TZNAME:EDT
DTSTART:20230312T070000
END:DAYLIGHT
BEGIN:STANDARD
TZOFFSETFROM:-0400
TZOFFSETTO:-0500
TZNAME:EST
DTSTART:20231105T060000
END:STANDARD
END:VTIMEZONE
BEGIN:VEVENT
DTSTART;TZID=America/New_York:20220305T200000
DTEND;TZID=America/New_York:20220305T200000
DTSTAMP:20260420T091139
CREATED:20211025T210026Z
LAST-MODIFIED:20211122T201128Z
UID:521-1646510400-1646510400@www.potomacplaymakers.org
SUMMARY:August: Osage County
DESCRIPTION:Description\n                        A vanished father. A pill-popping mother. Three sister's harboring shady little secrets. When the large Weston family unexpectedly reunites after Dad disappears\, their Oklahoman family homestead explodes in a maelstrom of repressed truths and unsettling secrets.\n                    Get Tickets
URL:https://www.potomacplaymakers.org/event/augustosagecounty-14/
LOCATION:Potomac Playmakers Performing Arts Center\, 17303 W Washington St.\, Hagerstown\, Maryland\, 21740
CATEGORIES:Productions
ATTACH;FMTTYPE=image/jpeg:https://www.potomacplaymakers.org/wp-content/uploads/2021/10/osage_county-scaled.jpg
END:VEVENT
END:VCALENDAR